BEGIN:VCALENDAR
VERSION:2.0
PRODID:-//Squarespace Inc/Squarespace 6//v6//EN
BEGIN:VEVENT
UID:54b39f2be4b0418eb5634256@squarespace.com
DTSTAMP:20150112T112053Z
DTSTART:20150402T130000Z
DTEND:20150403T125900Z
SUMMARY:Good Friday
END:VEVENT
END:VCALENDAR
