BEGIN:VCALENDAR
VERSION:2.0
PRODID:-//Squarespace Inc/Squarespace 6//v6//EN
BEGIN:VEVENT
UID:54b3909de4b030627137fd43@squarespace.com
DTSTAMP:20150112T092513Z
DTSTART:20150127T053000Z
DTEND:20150127T093000Z
SUMMARY:Term 1 Begins
END:VEVENT
END:VCALENDAR
