BEGIN:VCALENDAR
VERSION:2.0
PRODID:-//Squarespace Inc/Squarespace 6//v6//EN
BEGIN:VEVENT
UID:54b39d2ae4b0404ef3756a76@squarespace.com
DTSTAMP:20150112T101639Z
DTSTART:20150125T130000Z
DTEND:20150126T125900Z
SUMMARY:Australia Day
END:VEVENT
END:VCALENDAR
