BEGIN:VCALENDAR
VERSION:2.0
PRODID:-//Squarespace Inc/Squarespace 6//v6//EN
BEGIN:VEVENT
UID:54b3a37ce4b0b679e12791e8@squarespace.com
DTSTAMP:20150112T103615Z
DTSTART:20151005T053000Z
DTEND:20151005T093000Z
SUMMARY:Term 4 Begins
END:VEVENT
END:VCALENDAR
