BEGIN:VCALENDAR
VERSION:2.0
PRODID:-//Squarespace Inc/Squarespace 6//v6//EN
BEGIN:VEVENT
UID:54b3a13ce4b0531e1f8c983c@squarespace.com
DTSTAMP:20150112T102636Z
DTSTART:20151102T130000Z
DTEND:20151103T125900Z
SUMMARY:Melbourne Cup Day
END:VEVENT
END:VCALENDAR
