BEGIN:VCALENDAR
VERSION:2.0
PRODID:-//Squarespace Inc/Squarespace 6//v6//EN
BEGIN:VEVENT
UID:54b3afb1e4b0404ef3759a99@squarespace.com
DTSTAMP:20150112T113824Z
DTSTART:20151218T220000Z
DTEND:20151219T020000Z
SUMMARY:Term 4 Ends
END:VEVENT
END:VCALENDAR
