BEGIN:VCALENDAR
VERSION:2.0
PRODID:-//Squarespace Inc/Squarespace 6//v6//EN
BEGIN:VEVENT
UID:54b3a1c5e4b0cdf625eb9f92@squarespace.com
DTSTAMP:20150112T102845Z
DTSTART:20151225T130000Z
DTEND:20151226T125900Z
SUMMARY:Boxing Day
END:VEVENT
END:VCALENDAR
