BEGIN:VCALENDAR
VERSION:2.0
PRODID:-//Squarespace Inc/Squarespace 6//v6//EN
BEGIN:VEVENT
UID:54b3a1e7e4b0258f56ef86c0@squarespace.com
DTSTAMP:20150112T102926Z
DTSTART:20151227T130000Z
DTEND:20151228T125900Z
SUMMARY:Second Boxing Day
END:VEVENT
END:VCALENDAR
