BEGIN:VCALENDAR
VERSION:2.0
PRODID:-//Squarespace Inc/Squarespace 6//v6//EN
BEGIN:VEVENT
UID:54b3a21ee4b0404ef37577c6@squarespace.com
DTSTAMP:20150112T103128Z
DTSTART:20150327T220000Z
DTEND:20150328T020000Z
SUMMARY:Term 1 Ends
END:VEVENT
END:VCALENDAR
