BEGIN:VCALENDAR
VERSION:2.0
PRODID:-//Squarespace Inc/Squarespace 6//v6//EN
BEGIN:VEVENT
UID:54b39e7ce4b058acae2e41da@squarespace.com
DTSTAMP:20150112T101658Z
DTSTART:20150308T130000Z
DTEND:20150309T125900Z
SUMMARY:Labour Day
END:VEVENT
END:VCALENDAR
