BEGIN:VCALENDAR
VERSION:2.0
PRODID:-//Squarespace Inc/Squarespace 6//v6//EN
BEGIN:VEVENT
UID:54b3a0e4e4b0cdf625eb9d00@squarespace.com
DTSTAMP:20150112T102459Z
DTSTART:20150424T140000Z
DTEND:20150425T135900Z
SUMMARY:ANZAC Day
END:VEVENT
END:VCALENDAR
