BEGIN:VCALENDAR
VERSION:2.0
PRODID:-//Squarespace Inc/Squarespace 6//v6//EN
BEGIN:VEVENT
UID:54b3a011e4b093f4d29e1980@squarespace.com
DTSTAMP:20150112T102317Z
DTSTART:20150403T130000Z
DTEND:20150404T125900Z
SUMMARY:Easter Saturday
END:VEVENT
END:VCALENDAR
