BEGIN:VCALENDAR
VERSION:2.0
PRODID:-//Squarespace Inc/Squarespace 6//v6//EN
BEGIN:VEVENT
UID:54b3a0abe4b0531e1f8c96a3@squarespace.com
DTSTAMP:20150112T102419Z
DTSTART:20150405T140000Z
DTEND:20150406T135900Z
SUMMARY:Easter Monday
END:VEVENT
END:VCALENDAR
