BEGIN:VCALENDAR
VERSION:2.0
PRODID:-//Squarespace Inc/Squarespace 6//v6//EN
BEGIN:VEVENT
UID:54b3a10ae4b0ded4301766a7@squarespace.com
DTSTAMP:20150112T102540Z
DTSTART:20150607T140000Z
DTEND:20150608T135900Z
SUMMARY:Queen's Birthday
END:VEVENT
END:VCALENDAR
