BEGIN:VCALENDAR
VERSION:2.0
PRODID:-//Squarespace Inc/Squarespace 6//v6//EN
BEGIN:VEVENT
UID:54b3a32fe4b0c108166f2f5f@squarespace.com
DTSTAMP:20150112T103704Z
DTSTART:20150713T063000Z
DTEND:20150713T103000Z
SUMMARY:Term 3 Begins
END:VEVENT
END:VCALENDAR
