BEGIN:VCALENDAR
VERSION:2.0
PRODID:-//Squarespace Inc/Squarespace 6//v6//EN
BEGIN:VEVENT
UID:54b3a354e4b05a0789734811@squarespace.com
DTSTAMP:20150112T103641Z
DTSTART:20150918T230000Z
DTEND:20150919T030000Z
SUMMARY:Term 3 Ends
END:VEVENT
END:VCALENDAR
