BEGIN:VCALENDAR
VERSION:2.0
PRODID:-//Squarespace Inc/Squarespace 6//v6//EN
BEGIN:VEVENT
UID:5949d3b1d1758ee25e9b059a@squarespace.com
DTSTAMP:20170621T020822Z
DTSTART:20171106T130000Z
DTEND:20171107T125900Z
SUMMARY:Melbourne Cup Day (No class)
END:VEVENT
END:VCALENDAR
