BEGIN:VCALENDAR
VERSION:2.0
PRODID:-//Squarespace Inc/Squarespace 6//v6//EN
BEGIN:VEVENT
UID:5949d2b54c8b0389bbf38216@squarespace.com
DTSTAMP:20170621T015855Z
DTSTART:20170418T063000Z
DTEND:20170418T103000Z
SUMMARY:Term 2 Begins
END:VEVENT
END:VCALENDAR
