BEGIN:VCALENDAR
VERSION:2.0
PRODID:-//Squarespace Inc/Squarespace 6//v6//EN
BEGIN:VEVENT
UID:5949d23c3e00beddf9356fa1@squarespace.com
DTSTAMP:20170623T112103Z
DTSTART:20170717T063000Z
DTEND:20170717T103000Z
SUMMARY:First day of Term 3
END:VEVENT
END:VCALENDAR
