BEGIN:VCALENDAR
VERSION:2.0
PRODID:-//Squarespace Inc/Squarespace 6//v6//EN
BEGIN:VEVENT
UID:5949d5d1414fb5a5e085d04d@squarespace.com
DTSTAMP:20180112T234525Z
DTSTART:20180129T053000Z
DTEND:20180129T093000Z
SUMMARY:First day of Term 1
END:VEVENT
END:VCALENDAR
