BEGIN:VCALENDAR
VERSION:2.0
PRODID:-//Squarespace Inc/Squarespace 6//v6//EN
BEGIN:VEVENT
UID:594cf7a5725e25c149ac707c@squarespace.com
DTSTAMP:20170623T112201Z
DTSTART:20181008T053000Z
DTEND:20181008T093000Z
SUMMARY:First day of Term 4
END:VEVENT
END:VCALENDAR
