BEGIN:VCALENDAR
VERSION:2.0
PRODID:-//Squarespace Inc/Squarespace 6//v6//EN
BEGIN:VEVENT
UID:594cf7de1b631be4c38fb853@squarespace.com
DTSTAMP:20170623T112045Z
DTSTART:20181221T220000Z
DTEND:20181222T020000Z
SUMMARY:Last day of Term 4
END:VEVENT
END:VCALENDAR
