BEGIN:VCALENDAR
VERSION:2.0
PRODID:-//Squarespace Inc/Squarespace 6//v6//EN
BEGIN:VEVENT
UID:594cea6f725e25c149ac131a@squarespace.com
DTSTAMP:20170623T112010Z
DTSTART:20180329T053000Z
DTEND:20180329T093000Z
SUMMARY:Last day of Term 1
END:VEVENT
END:VCALENDAR
