BEGIN:VCALENDAR
VERSION:2.0
PRODID:-//Squarespace Inc/Squarespace 6//v6//EN
BEGIN:VEVENT
UID:594cea8f3e00be9aeea0e2c0@squarespace.com
DTSTAMP:20170623T111112Z
DTSTART:20180329T130000Z
DTEND:20180402T135900Z
SUMMARY:Easter Weekend
END:VEVENT
END:VCALENDAR
