BEGIN:VCALENDAR
VERSION:2.0
PRODID:-//Squarespace Inc/Squarespace 6//v6//EN
BEGIN:VEVENT
UID:594cf5eab6ac50e03dfc30d7@squarespace.com
DTSTAMP:20170623T112026Z
DTSTART:20180629T230000Z
DTEND:20180630T030000Z
SUMMARY:Last day of Term 2
END:VEVENT
END:VCALENDAR
